BEGIN:VCALENDAR
VERSION:2.0
PRODID:-//Virginia Career Works Northern Region - ECPv6.15.17.1//NONSGML v1.0//EN
CALSCALE:GREGORIAN
METHOD:PUBLISH
X-ORIGINAL-URL:https://vcwnorthern.com
X-WR-CALDESC:Events for Virginia Career Works Northern Region
REFRESH-INTERVAL;VALUE=DURATION:PT1H
X-Robots-Tag:noindex
X-PUBLISHED-TTL:PT1H
BEGIN:VTIMEZONE
TZID:UTC
BEGIN:STANDARD
TZOFFSETFROM:+0000
TZOFFSETTO:+0000
TZNAME:UTC
DTSTART:20180101T000000
END:STANDARD
END:VTIMEZONE
BEGIN:VEVENT
DTSTART;TZID=UTC:20190718T130000
DTEND;TZID=UTC:20190718T150000
DTSTAMP:20260421T054502
CREATED:20190701T230856Z
LAST-MODIFIED:20190701T233512Z
UID:18226-1563454800-1563462000@vcwnorthern.com
SUMMARY:TAX DEBT RELIEF CLINIC
DESCRIPTION:Do you owe taxes and can’t afford to pay? You may be eligible to settle your debt. \nEmail angela.harris@vcwnorthern.com to REGISTER for this event. \nThis clinic is free of charge. \nClick here to view the event flyer.
URL:https://vcwnorthern.com/event/tax-debt-relief-clinic/
LOCATION:VCW – Prince William Center\, 13370 Minnieville Road\, Woodbridge\, VA\, 22192\, United States
CATEGORIES:Workshops
END:VEVENT
END:VCALENDAR